BEGIN:VCALENDAR
VERSION:2.0
PRODID:-//wp-events-plugin.com//7.2.3.1//EN
TZID:America/Los_Angeles
X-WR-TIMEZONE:America/Los_Angeles
BEGIN:VEVENT
UID:207@michellespiano.com
DTSTART;TZID=America/Los_Angeles:20251122T130000
DTEND;TZID=America/Los_Angeles:20251122T160000
DTSTAMP:20251103T233121Z
URL:https://michellespiano.com/events/the-barry-deister-quintet/
SUMMARY:The Barry Deister Quintet
DESCRIPTION:
LOCATION:Michelles Piano\, 600 SE Stark St\, Portland\, OR\, 97214\, United
  States
GEO:45.5192196;-122.65953830000001
X-APPLE-STRUCTURED-LOCATION;VALUE=URI;X-ADDRESS=600 SE Stark St\, Portland\
 , OR\, 97214\, United States;X-APPLE-RADIUS=100;X-TITLE=Michelles Piano:ge
 o:45.5192196,-122.65953830000001
END:VEVENT
BEGIN:VTIMEZONE
TZID:America/Los_Angeles
X-LIC-LOCATION:America/Los_Angeles
BEGIN:STANDARD
DTSTART:20251102T010000
TZOFFSETFROM:-0700
TZOFFSETTO:-0800
TZNAME:PST
END:STANDARD
END:VTIMEZONE
END:VCALENDAR