BEGIN:VCALENDAR
VERSION:2.0
PRODID:-//wp-events-plugin.com//7.2.3.1//EN
TZID:America/Los_Angeles
X-WR-TIMEZONE:America/Los_Angeles
BEGIN:VEVENT
UID:177@michellespiano.com
DTSTART;TZID=America/Los_Angeles:20180303T150000
DTEND;TZID=America/Los_Angeles:20180303T170000
DTSTAMP:20180227T024344Z
URL:https://michellespiano.com/events/carnegie-hall-preview/
SUMMARY:Carnegie Hall Preview
DESCRIPTION:\n"...an exceptional\, gifted &nbsp\;young artist."\n Robert Ma
 nn\,&nbsp\;Founding Member Juilliard String Quartet\n\nA pianist of extrao
 rdinary sensitivity\, intelligence\, and breadth of dramatic expression\, 
 Jeffrey LaDeur makes his solo debut at Carnegie Hall with this recital com
 memorating the life and works of Claude Debussy on the centenary of his de
 ath. Inspired by Couperin and Chopin\, Debussy’s Études of 1915 are the
  summation of the composer’s mature genius in writing for solo piano. Th
 e three composers are presented in musical dialogue\, tracing the unbroken
  line of tradition through centuries of French music.\n&nbsp\;\n\n\n\n"Awe
 -inspiring" and "ear-opening.”\n Stephen Smoliar\, San Francisco Examine
 r&nbsp\;\nSharing the stage with (his good friend) LaDeur—and celebratin
 g his return to Portland audiences following his education at The Eastman 
 School of Music (which began at age 15)—pianist and pedagogue\, Johnandr
 ew Slominski will perform a selection of Chopin Mazurkas and Barcarolle. I
 n 2017\, Slominski joined the faculty of Linfield College as an artist-in-
 residence and music theorist.\n\n
ATTACH;FMTTYPE=image/jpeg:https://michellespiano.com/wp-content/uploads/20
 16/01/michelles-piano-in-portland-or-upcoming-event-poster-blank.jpg
LOCATION:Michelles Piano\, 600 SE Stark St\, Portland\, OR\, 97214\, United
  States
GEO:45.5192196;-122.65953830000001
X-APPLE-STRUCTURED-LOCATION;VALUE=URI;X-ADDRESS=600 SE Stark St\, Portland\
 , OR\, 97214\, United States;X-APPLE-RADIUS=100;X-TITLE=Michelles Piano:ge
 o:45.5192196,-122.65953830000001
END:VEVENT
BEGIN:VTIMEZONE
TZID:America/Los_Angeles
X-LIC-LOCATION:America/Los_Angeles
BEGIN:STANDARD
DTSTART:20171105T010000
TZOFFSETFROM:-0700
TZOFFSETTO:-0800
TZNAME:PST
END:STANDARD
END:VTIMEZONE
END:VCALENDAR